BEGIN:VCALENDAR
VERSION:2.0
PRODID:-//Gemeinsam in Jüterbog - ECPv6.15.20//NONSGML v1.0//EN
CALSCALE:GREGORIAN
METHOD:PUBLISH
X-ORIGINAL-URL:https://www.gemeinsam-in-jueterbog.de
X-WR-CALDESC:Veranstaltungen für Gemeinsam in Jüterbog
REFRESH-INTERVAL;VALUE=DURATION:PT1H
X-Robots-Tag:noindex
X-PUBLISHED-TTL:PT1H
BEGIN:VTIMEZONE
TZID:Europe/Berlin
BEGIN:DAYLIGHT
TZOFFSETFROM:+0100
TZOFFSETTO:+0200
TZNAME:CEST
DTSTART:20230326T010000
END:DAYLIGHT
BEGIN:STANDARD
TZOFFSETFROM:+0200
TZOFFSETTO:+0100
TZNAME:CET
DTSTART:20231029T010000
END:STANDARD
BEGIN:DAYLIGHT
TZOFFSETFROM:+0100
TZOFFSETTO:+0200
TZNAME:CEST
DTSTART:20240331T010000
END:DAYLIGHT
BEGIN:STANDARD
TZOFFSETFROM:+0200
TZOFFSETTO:+0100
TZNAME:CET
DTSTART:20241027T010000
END:STANDARD
BEGIN:DAYLIGHT
TZOFFSETFROM:+0100
TZOFFSETTO:+0200
TZNAME:CEST
DTSTART:20250330T010000
END:DAYLIGHT
BEGIN:STANDARD
TZOFFSETFROM:+0200
TZOFFSETTO:+0100
TZNAME:CET
DTSTART:20251026T010000
END:STANDARD
END:VTIMEZONE
BEGIN:VEVENT
DTSTART;VALUE=DATE:20240625
DTEND;VALUE=DATE:20240827
DTSTAMP:20260422T233438
CREATED:20240625T135944Z
LAST-MODIFIED:20240625T142240Z
UID:4899-1719273600-1724716799@www.gemeinsam-in-jueterbog.de
SUMMARY:Boot für Menschenrechte 25. Juni - 26. August im Kreishaus
DESCRIPTION:Märkische Allgemeine\, Jüterboger Echo vom 24.06.24\, Seite 15\n\n			\n				\n			\n			\n				\n			\n			\n				\n			\n			\n				\n			\n			\n				\n			\n			\n				\n			\n				\n				Unser Boot mit der Bo(o)tschaft:  Sei ein Mensch.\n				\n		\n\n\n			\n				\n			\n			\n				\n			\n			\n				\n			\n		\n\nPressermitteilung von Frau Romy Powils\, der Gleichstellungs- und Integrationsbeauftragten des Landkreises Teltow-Fläming\, zum Weltflüchtlingstag (externer Link) \n  \n  \n 
URL:https://www.gemeinsam-in-jueterbog.de/event/boot-fuer-menschenrechte-im-kreishaus-25-juni-26-august/
LOCATION:Kreisverwaltung Landkreis Teltow-Fläming\, Am Nuthefließ 2\, Luckenwalde\, Brandenburg\, 14943
CATEGORIES:100 Boote - 100 Millionen Menschen,Ausstellung,Weltflüchtlingstag
ATTACH;FMTTYPE=image/jpeg:https://www.gemeinsam-in-jueterbog.de/wp-content/uploads/2024/06/Menschenrechtsboot-im-Kreishaus-6.jpeg
END:VEVENT
END:VCALENDAR